BEGIN:VCALENDAR
VERSION:2.0
PRODID:-//pretix//pretix.eu//
BEGIN:VTIMEZONE
TZID:Europe/Berlin
BEGIN:STANDARD
DTSTART:20001029T040000
RRULE:FREQ=YEARLY;BYDAY=-1SU;BYMONTH=10
TZNAME:CET
TZOFFSETFROM:+0200
TZOFFSETTO:+0100
END:STANDARD
BEGIN:DAYLIGHT
DTSTART:20000326T030000
RRULE:FREQ=YEARLY;BYDAY=-1SU;BYMONTH=3
TZNAME:CEST
TZOFFSETFROM:+0100
TZOFFSETTO:+0200
END:DAYLIGHT
END:VTIMEZONE
BEGIN:VEVENT
UID:pretix-sgvboebingen-vt-oktoberfest2024-4657053@sgvboebingen.vereinstick
 et.de
DTSTART;TZID=Europe/Berlin:20251002T190000
DTEND;TZID=Europe/Berlin:20251002T200000
DESCRIPTION:Tickets: https://sgvboebingen.vereinsticket.de/vt-oktoberfest20
 24/4657053/\nVeranstalter: Sport und Gesangverein Böbingen 1920 e.V.
DTSTAMP:20260425T230549Z
LOCATION:SGV Halle\, Bucher Straße 17\, 73560 Böbingen an der Rems
SUMMARY:Oktoberfest SGV Böbingen 2025
END:VEVENT
END:VCALENDAR
